BEGIN:VCALENDAR
VERSION:2.0
PRODID:-//AGPV - Arbeitsgemeinschaft pfälzischer Voltigierer - ECPv6.15.16//NONSGML v1.0//EN
CALSCALE:GREGORIAN
METHOD:PUBLISH
X-WR-CALNAME:AGPV - Arbeitsgemeinschaft pfälzischer Voltigierer
X-ORIGINAL-URL:https://agpv.de
X-WR-CALDESC:Veranstaltungen für AGPV - Arbeitsgemeinschaft pfälzischer Voltigierer
REFRESH-INTERVAL;VALUE=DURATION:PT1H
X-Robots-Tag:noindex
X-PUBLISHED-TTL:PT1H
BEGIN:VTIMEZONE
TZID:UTC
BEGIN:STANDARD
TZOFFSETFROM:+0000
TZOFFSETTO:+0000
TZNAME:UTC
DTSTART:20240101T000000
END:STANDARD
END:VTIMEZONE
BEGIN:VEVENT
DTSTART;VALUE=DATE:20250503
DTEND;VALUE=DATE:20250505
DTSTAMP:20260424T210050
CREATED:20250216T180620Z
LAST-MODIFIED:20250216T180620Z
UID:1235-1746230400-1746403199@agpv.de
SUMMARY:Turnier Bad Dürkheim (Sichtung)
DESCRIPTION:
URL:https://agpv.de/event/turnier-bad-duerkheim-sichtung
END:VEVENT
BEGIN:VEVENT
DTSTART;VALUE=DATE:20250510
DTEND;VALUE=DATE:20250511
DTSTAMP:20260424T210051
CREATED:20250216T180647Z
LAST-MODIFIED:20250216T180647Z
UID:1237-1746835200-1746921599@agpv.de
SUMMARY:Turnier Adenau
DESCRIPTION:
URL:https://agpv.de/event/turnier-adenau-2
END:VEVENT
BEGIN:VEVENT
DTSTART;VALUE=DATE:20250524
DTEND;VALUE=DATE:20250526
DTSTAMP:20260424T210051
CREATED:20250216T180759Z
LAST-MODIFIED:20250216T180759Z
UID:1239-1748044800-1748217599@agpv.de
SUMMARY:Turnier Langenscheid
DESCRIPTION:
URL:https://agpv.de/event/turnier-langenscheid-3
END:VEVENT
BEGIN:VEVENT
DTSTART;VALUE=DATE:20250525
DTEND;VALUE=DATE:20250526
DTSTAMP:20260424T210051
CREATED:20250216T180837Z
LAST-MODIFIED:20250216T180837Z
UID:1241-1748131200-1748217599@agpv.de
SUMMARY:Turneir RC Südwest WBO
DESCRIPTION:
URL:https://agpv.de/event/turneir-rc-suedwest-wbo
END:VEVENT
END:VCALENDAR