BEGIN:VCALENDAR
VERSION:2.0
PRODID:-//AGPV - Arbeitsgemeinschaft pfälzischer Voltigierer - ECPv6.15.16//NONSGML v1.0//EN
CALSCALE:GREGORIAN
METHOD:PUBLISH
X-ORIGINAL-URL:https://agpv.de
X-WR-CALDESC:Veranstaltungen für AGPV - Arbeitsgemeinschaft pfälzischer Voltigierer
REFRESH-INTERVAL;VALUE=DURATION:PT1H
X-Robots-Tag:noindex
X-PUBLISHED-TTL:PT1H
BEGIN:VTIMEZONE
TZID:UTC
BEGIN:STANDARD
TZOFFSETFROM:+0000
TZOFFSETTO:+0000
TZNAME:UTC
DTSTART:20230101T000000
END:STANDARD
END:VTIMEZONE
BEGIN:VEVENT
DTSTART;VALUE=DATE:20260307
DTEND;VALUE=DATE:20260308
DTSTAMP:20260420T132751
CREATED:20260226T211318Z
LAST-MODIFIED:20260226T211318Z
UID:1406-1772841600-1772927999@agpv.de
SUMMARY:Bockturnier Grünstadt
DESCRIPTION:
URL:https://agpv.de/event/bockturnier-gruenstadt
CATEGORIES:Turniere
END:VEVENT
BEGIN:VEVENT
DTSTART;VALUE=DATE:20250920
DTEND;VALUE=DATE:20250922
DTSTAMP:20260420T132751
CREATED:20250216T181351Z
LAST-MODIFIED:20250216T181351Z
UID:1255-1758326400-1758499199@agpv.de
SUMMARY:Turnier Standenbühl
DESCRIPTION:
URL:https://agpv.de/event/turnier-standenbuehl-3
END:VEVENT
BEGIN:VEVENT
DTSTART;VALUE=DATE:20250920
DTEND;VALUE=DATE:20250922
DTSTAMP:20260420T132751
CREATED:20250216T181318Z
LAST-MODIFIED:20250216T181318Z
UID:1253-1758326400-1758499199@agpv.de
SUMMARY:Turnier Bernkastel-Kues
DESCRIPTION:
URL:https://agpv.de/event/turnier-bernkastel-kues
END:VEVENT
BEGIN:VEVENT
DTSTART;VALUE=DATE:20250913
DTEND;VALUE=DATE:20250915
DTSTAMP:20260420T132751
CREATED:20250216T181209Z
LAST-MODIFIED:20250216T181209Z
UID:1251-1757721600-1757894399@agpv.de
SUMMARY:Bad Ems (Basischampionat)
DESCRIPTION:
URL:https://agpv.de/event/bad-ems-basischampionat
END:VEVENT
BEGIN:VEVENT
DTSTART;VALUE=DATE:20250906
DTEND;VALUE=DATE:20250908
DTSTAMP:20260420T132751
CREATED:20250216T181120Z
LAST-MODIFIED:20250216T181120Z
UID:1249-1757116800-1757289599@agpv.de
SUMMARY:Pfalzmeisterschaft Zeiskam
DESCRIPTION:
URL:https://agpv.de/event/pfalzmeisterschaft-zeiskam-2
END:VEVENT
BEGIN:VEVENT
DTSTART;VALUE=DATE:20250621
DTEND;VALUE=DATE:20250623
DTSTAMP:20260420T132751
CREATED:20250216T181024Z
LAST-MODIFIED:20250407T153624Z
UID:1247-1750464000-1750636799@agpv.de
SUMMARY:LM Herxheim (Sichtung)
DESCRIPTION:Ausschreibung LM Herxheim
URL:https://agpv.de/event/lm-herxheim-sichtung
END:VEVENT
BEGIN:VEVENT
DTSTART;VALUE=DATE:20250614
DTEND;VALUE=DATE:20250616
DTSTAMP:20260420T132751
CREATED:20250216T180952Z
LAST-MODIFIED:20250410T073522Z
UID:1245-1749859200-1750031999@agpv.de
SUMMARY:Turnier Bundenbach
DESCRIPTION:Ausschreibung Kleinbundenbach
URL:https://agpv.de/event/turnier-bundenbach-2
END:VEVENT
BEGIN:VEVENT
DTSTART;VALUE=DATE:20250614
DTEND;VALUE=DATE:20250616
DTSTAMP:20260420T132751
CREATED:20250216T180915Z
LAST-MODIFIED:20250216T180915Z
UID:1243-1749859200-1750031999@agpv.de
SUMMARY:Turnier Leienkaul
DESCRIPTION:
URL:https://agpv.de/event/turnier-leienkaul-2
END:VEVENT
BEGIN:VEVENT
DTSTART;VALUE=DATE:20250525
DTEND;VALUE=DATE:20250526
DTSTAMP:20260420T132751
CREATED:20250216T180837Z
LAST-MODIFIED:20250216T180837Z
UID:1241-1748131200-1748217599@agpv.de
SUMMARY:Turneir RC Südwest WBO
DESCRIPTION:
URL:https://agpv.de/event/turneir-rc-suedwest-wbo
END:VEVENT
BEGIN:VEVENT
DTSTART;VALUE=DATE:20250524
DTEND;VALUE=DATE:20250526
DTSTAMP:20260420T132751
CREATED:20250216T180759Z
LAST-MODIFIED:20250216T180759Z
UID:1239-1748044800-1748217599@agpv.de
SUMMARY:Turnier Langenscheid
DESCRIPTION:
URL:https://agpv.de/event/turnier-langenscheid-3
END:VEVENT
BEGIN:VEVENT
DTSTART;VALUE=DATE:20250510
DTEND;VALUE=DATE:20250511
DTSTAMP:20260420T132751
CREATED:20250216T180647Z
LAST-MODIFIED:20250216T180647Z
UID:1237-1746835200-1746921599@agpv.de
SUMMARY:Turnier Adenau
DESCRIPTION:
URL:https://agpv.de/event/turnier-adenau-2
END:VEVENT
BEGIN:VEVENT
DTSTART;VALUE=DATE:20250503
DTEND;VALUE=DATE:20250505
DTSTAMP:20260420T132751
CREATED:20250216T180620Z
LAST-MODIFIED:20250216T180620Z
UID:1235-1746230400-1746403199@agpv.de
SUMMARY:Turnier Bad Dürkheim (Sichtung)
DESCRIPTION:
URL:https://agpv.de/event/turnier-bad-duerkheim-sichtung
END:VEVENT
BEGIN:VEVENT
DTSTART;VALUE=DATE:20250405
DTEND;VALUE=DATE:20250407
DTSTAMP:20260420T132751
CREATED:20250216T180544Z
LAST-MODIFIED:20250216T180544Z
UID:1233-1743811200-1743983999@agpv.de
SUMMARY:Turnier Kurtscheid (Sichtung)
DESCRIPTION:
URL:https://agpv.de/event/turnier-kurtscheid-sichtung
END:VEVENT
BEGIN:VEVENT
DTSTART;VALUE=DATE:20250329
DTEND;VALUE=DATE:20250330
DTSTAMP:20260420T132751
CREATED:20250216T180321Z
LAST-MODIFIED:20250216T180321Z
UID:1229-1743206400-1743292799@agpv.de
SUMMARY:Movie Turnier VRG Südwestpfalz
DESCRIPTION:
URL:https://agpv.de/event/movie-turnier-vrg-suedwestpfalz
END:VEVENT
BEGIN:VEVENT
DTSTART;VALUE=DATE:20250322
DTEND;VALUE=DATE:20250323
DTSTAMP:20260420T132751
CREATED:20250216T180506Z
LAST-MODIFIED:20250216T180506Z
UID:1231-1742601600-1742687999@agpv.de
SUMMARY:Holzpferd Mohrbach
DESCRIPTION:
URL:https://agpv.de/event/holzpferd-mohrbach
END:VEVENT
BEGIN:VEVENT
DTSTART;TZID=UTC:20241005T080000
DTEND;TZID=UTC:20241006T170000
DTSTAMP:20260420T132751
CREATED:20240116T205959Z
LAST-MODIFIED:20240116T205959Z
UID:1111-1728115200-1728234000@agpv.de
SUMMARY:Turnier Bad Ems
DESCRIPTION:
URL:https://agpv.de/event/turnier-bad-ems
LOCATION:Bad Ems\, Deutschland
CATEGORIES:Turniere
END:VEVENT
BEGIN:VEVENT
DTSTART;TZID=UTC:20240928T080000
DTEND;TZID=UTC:20240929T170000
DTSTAMP:20260420T132751
CREATED:20240116T205918Z
LAST-MODIFIED:20240116T205918Z
UID:1109-1727510400-1727629200@agpv.de
SUMMARY:5-Länder Vergleichswettkampf
DESCRIPTION:
URL:https://agpv.de/event/5-laender-vergleichswettkampf
CATEGORIES:Turniere
END:VEVENT
BEGIN:VEVENT
DTSTART;TZID=UTC:20240913T080000
DTEND;TZID=UTC:20240915T170000
DTSTAMP:20260420T132751
CREATED:20240116T205836Z
LAST-MODIFIED:20240116T205836Z
UID:1107-1726214400-1726419600@agpv.de
SUMMARY:Deutsche Meisterschaft Verden
DESCRIPTION:
URL:https://agpv.de/event/deutsche-meisterschaft-verden
CATEGORIES:Turniere
END:VEVENT
BEGIN:VEVENT
DTSTART;VALUE=DATE:20240907
DTEND;VALUE=DATE:20240909
DTSTAMP:20260420T132751
CREATED:20240116T205800Z
LAST-MODIFIED:20240811T120004Z
UID:1105-1725667200-1725839999@agpv.de
SUMMARY:Turnier Standenbühl
DESCRIPTION:Ausschreibung Standenbühl
URL:https://agpv.de/event/turnier-standenbuehl-2
LOCATION:Standenbühl\, Deutschland
CATEGORIES:Turniere
END:VEVENT
BEGIN:VEVENT
DTSTART;TZID=UTC:20240831T080000
DTEND;TZID=UTC:20240901T170000
DTSTAMP:20260420T132751
CREATED:20240116T205701Z
LAST-MODIFIED:20240116T205701Z
UID:1103-1725091200-1725210000@agpv.de
SUMMARY:Pfalzmeisterschaft Zeiskam
DESCRIPTION:
URL:https://agpv.de/event/pfalzmeisterschaft-zeiskam
CATEGORIES:Turniere
END:VEVENT
BEGIN:VEVENT
DTSTART;TZID=UTC:20240815T080000
DTEND;TZID=UTC:20240818T170000
DTSTAMP:20260420T132751
CREATED:20240116T205603Z
LAST-MODIFIED:20240116T205603Z
UID:1101-1723708800-1724000400@agpv.de
SUMMARY:Deutsche Jugendmeisterschaft Prussendorf
DESCRIPTION:
URL:https://agpv.de/event/deutsche-jugendmeisterschaft-prussendorf
CATEGORIES:Turniere
END:VEVENT
BEGIN:VEVENT
DTSTART;VALUE=DATE:20240707
DTEND;VALUE=DATE:20240708
DTSTAMP:20260420T132751
CREATED:20240515T054257Z
LAST-MODIFIED:20240515T054257Z
UID:1187-1720310400-1720396799@agpv.de
SUMMARY:WBO Turnier RC Südwest Ludwigshafen e.V.
DESCRIPTION:Ausschreibung Ludwigshafen
URL:https://agpv.de/event/wbo-turnier-rc-suedwest-ludwigshafen-e-v
CATEGORIES:Turniere
END:VEVENT
BEGIN:VEVENT
DTSTART;TZID=UTC:20240622T080000
DTEND;TZID=UTC:20240623T170000
DTSTAMP:20260420T132751
CREATED:20240116T205508Z
LAST-MODIFIED:20240116T205508Z
UID:1098-1719043200-1719162000@agpv.de
SUMMARY:L-Team Cup\, Redefin
DESCRIPTION:
URL:https://agpv.de/event/l-team-cup-redefin
LOCATION:Redefin
CATEGORIES:Turniere
END:VEVENT
BEGIN:VEVENT
DTSTART;TZID=UTC:20240622T080000
DTEND;TZID=UTC:20240623T170000
DTSTAMP:20260420T132751
CREATED:20240116T205408Z
LAST-MODIFIED:20240116T205418Z
UID:1094-1719043200-1719162000@agpv.de
SUMMARY:Turnier Leinenkaul
DESCRIPTION:
URL:https://agpv.de/event/turnier-leienkaul
LOCATION:Leinenkaul
CATEGORIES:Turniere
END:VEVENT
BEGIN:VEVENT
DTSTART;TZID=UTC:20240615T080000
DTEND;TZID=UTC:20240616T170000
DTSTAMP:20260420T132751
CREATED:20240116T205311Z
LAST-MODIFIED:20240116T205311Z
UID:1092-1718438400-1718557200@agpv.de
SUMMARY:Turnier Kleinbundenbach
DESCRIPTION:
URL:https://agpv.de/event/turnier-kleinbundenbach
LOCATION:Kleinbundebach\, Deutschland
CATEGORIES:Turniere
END:VEVENT
BEGIN:VEVENT
DTSTART;TZID=UTC:20240608T080000
DTEND;TZID=UTC:20240609T170000
DTSTAMP:20260420T132751
CREATED:20240116T205227Z
LAST-MODIFIED:20240116T205227Z
UID:1089-1717833600-1717952400@agpv.de
SUMMARY:Landesmeisterschaft Bernkastel-Kues
DESCRIPTION:
URL:https://agpv.de/event/landesmeisterschaft-bernkastel-kues
LOCATION:Bernkastel-Kues
CATEGORIES:Turniere
END:VEVENT
BEGIN:VEVENT
DTSTART;TZID=UTC:20240530T080000
DTEND;TZID=UTC:20240530T170000
DTSTAMP:20260420T132751
CREATED:20240116T205123Z
LAST-MODIFIED:20240116T205123Z
UID:1086-1717056000-1717088400@agpv.de
SUMMARY:Turnier Koblenz-Metternich
DESCRIPTION:
URL:https://agpv.de/event/turnier-koblenz-metternich
LOCATION:Koblenz-Metternich
CATEGORIES:Turniere
END:VEVENT
BEGIN:VEVENT
DTSTART;TZID=UTC:20240511T080000
DTEND;TZID=UTC:20240511T170000
DTSTAMP:20260420T132751
CREATED:20240116T204948Z
LAST-MODIFIED:20240116T204948Z
UID:1084-1715414400-1715446800@agpv.de
SUMMARY:Turnier Adenau
DESCRIPTION:
URL:https://agpv.de/event/turnier-adenau
CATEGORIES:Turniere
END:VEVENT
BEGIN:VEVENT
DTSTART;TZID=UTC:20240510T080000
DTEND;TZID=UTC:20240512T170000
DTSTAMP:20260420T132751
CREATED:20240116T204905Z
LAST-MODIFIED:20240116T204905Z
UID:1082-1715328000-1715533200@agpv.de
SUMMARY:Preis der Besten\, Warendorf
DESCRIPTION:
URL:https://agpv.de/event/preis-der-besten-warendorf
CATEGORIES:Turniere
END:VEVENT
BEGIN:VEVENT
DTSTART;TZID=UTC:20240504T080000
DTEND;TZID=UTC:20240505T170000
DTSTAMP:20260420T132751
CREATED:20240116T204706Z
LAST-MODIFIED:20240116T204706Z
UID:1080-1714809600-1714928400@agpv.de
SUMMARY:Turnier Langenscheid
DESCRIPTION:
URL:https://agpv.de/event/turnier-langenscheid-2
LOCATION:Langenscheid
END:VEVENT
END:VCALENDAR