BEGIN:VCALENDAR
VERSION:2.0
PRODID:-//AGPV - Arbeitsgemeinschaft pfälzischer Voltigierer - ECPv6.15.16//NONSGML v1.0//EN
CALSCALE:GREGORIAN
METHOD:PUBLISH
X-WR-CALNAME:AGPV - Arbeitsgemeinschaft pfälzischer Voltigierer
X-ORIGINAL-URL:https://agpv.de
X-WR-CALDESC:Veranstaltungen für AGPV - Arbeitsgemeinschaft pfälzischer Voltigierer
REFRESH-INTERVAL;VALUE=DURATION:PT1H
X-Robots-Tag:noindex
X-PUBLISHED-TTL:PT1H
BEGIN:VTIMEZONE
TZID:UTC
BEGIN:STANDARD
TZOFFSETFROM:+0000
TZOFFSETTO:+0000
TZNAME:UTC
DTSTART:20240101T000000
END:STANDARD
END:VTIMEZONE
BEGIN:VEVENT
DTSTART;VALUE=DATE:20250906
DTEND;VALUE=DATE:20250908
DTSTAMP:20260424T171017
CREATED:20250216T181120Z
LAST-MODIFIED:20250216T181120Z
UID:1249-1757116800-1757289599@agpv.de
SUMMARY:Pfalzmeisterschaft Zeiskam
DESCRIPTION:
URL:https://agpv.de/event/pfalzmeisterschaft-zeiskam-2
END:VEVENT
END:VCALENDAR