BEGIN:VCALENDAR
VERSION:2.0
PRODID:-//AGPV - Arbeitsgemeinschaft pfälzischer Voltigierer - ECPv6.15.16//NONSGML v1.0//EN
CALSCALE:GREGORIAN
METHOD:PUBLISH
X-ORIGINAL-URL:https://agpv.de
X-WR-CALDESC:Veranstaltungen für AGPV - Arbeitsgemeinschaft pfälzischer Voltigierer
REFRESH-INTERVAL;VALUE=DURATION:PT1H
X-Robots-Tag:noindex
X-PUBLISHED-TTL:PT1H
BEGIN:VTIMEZONE
TZID:UTC
BEGIN:STANDARD
TZOFFSETFROM:+0000
TZOFFSETTO:+0000
TZNAME:UTC
DTSTART:20240101T000000
END:STANDARD
END:VTIMEZONE
BEGIN:VEVENT
DTSTART;VALUE=DATE:20250614
DTEND;VALUE=DATE:20250616
DTSTAMP:20260424T210423
CREATED:20250216T180915Z
LAST-MODIFIED:20250216T180915Z
UID:1243-1749859200-1750031999@agpv.de
SUMMARY:Turnier Leienkaul
DESCRIPTION:
URL:https://agpv.de/event/turnier-leienkaul-2
END:VEVENT
BEGIN:VEVENT
DTSTART;VALUE=DATE:20250614
DTEND;VALUE=DATE:20250616
DTSTAMP:20260424T210423
CREATED:20250216T180952Z
LAST-MODIFIED:20250410T073522Z
UID:1245-1749859200-1750031999@agpv.de
SUMMARY:Turnier Bundenbach
DESCRIPTION:Ausschreibung Kleinbundenbach
URL:https://agpv.de/event/turnier-bundenbach-2
END:VEVENT
END:VCALENDAR